BEGIN:VCALENDAR
VERSION:2.0
PRODID:-//The Barrel Room - ECPv4.6.22.1//NONSGML v1.0//EN
CALSCALE:GREGORIAN
METHOD:PUBLISH
X-WR-CALNAME:The Barrel Room
X-ORIGINAL-URL:http://barrelroom.co.nz
X-WR-CALDESC:Events for The Barrel Room
BEGIN:VEVENT
DTSTART;TZID=UTC+0:20180222T193000
DTEND;TZID=UTC+0:20180222T213000
DTSTAMP:20181218T043732
CREATED:20180212T074414Z
LAST-MODIFIED:20180411T234458Z
UID:721-1519327800-1519335000@barrelroom.co.nz
SUMMARY:Yeastie Boys - Meet The Brewer
DESCRIPTION:Come in and meet the team from Yeastie Boys Brewery \n
URL:http://barrelroom.co.nz/event/yeastie-boys-meet-brewer/
LOCATION:The Barrel Room\, 26 Wharf Street\, Tauranga\, New Zealand
CATEGORIES:Meet The Brewer
END:VEVENT
END:VCALENDAR