BEGIN:VCALENDAR
VERSION:2.0
PRODID:-//The Barrel Room - ECPv4.6.22.1//NONSGML v1.0//EN
CALSCALE:GREGORIAN
METHOD:PUBLISH
X-WR-CALNAME:The Barrel Room
X-ORIGINAL-URL:http://barrelroom.co.nz
X-WR-CALDESC:Events for The Barrel Room
BEGIN:VEVENT
DTSTART;TZID=UTC+0:20180221T190000
DTEND;TZID=UTC+0:20180221T223000
DTSTAMP:20181218T043907
CREATED:20180212T081652Z
LAST-MODIFIED:20180411T234144Z
UID:730-1519239600-1519252200@barrelroom.co.nz
SUMMARY:Live Music - Thomson Springs (Chicago)
DESCRIPTION:Live Music\nThompson Springs\n(CHICAGO) \n
URL:http://barrelroom.co.nz/event/live-music-thomson-springs-chicago/
CATEGORIES:Music - ticketed
END:VEVENT
END:VCALENDAR